BEGIN:VCALENDAR
METHOD:PUBLISH
VERSION:2.0
X-WR-CALNAME:XIII Roman Meeting of Patrons
PRODID:-//Apple Inc.//Mac OS X 10.12.4//EN
X-WR-CALDESC:6l772591p62clhqjvame2glq6o@group.calendar.google.com
X-APPLE-CALENDAR-COLOR:#28754E
X-WR-TIMEZONE:Europe/Rome
CALSCALE:GREGORIAN
BEGIN:VEVENT
TRANSP:TRANSPARENT
DTEND;VALUE=DATE:20181106
LAST-MODIFIED:20170517T150038Z
UID:7F5399B5-D6B7-4995-A216-F1785CBF87CB
DTSTAMP:20170517T150038Z
LOCATION:Piazza di Sant'Apollinare 49\nRoma\, Italia
DESCRIPTION:A unique experience of the Pontifical University of the Holy
  Cross and also of the city of Rome through its ancient and Christian he
 ritage. XIII Roman Meeting of Patrons is an exclusive opportunity to per
 ceive the inner spirit of Santa Croce University getting to know our stu
 dents and our infrastructure in a way never before experienced.
URL;VALUE=URI:http://en.pusc.it/benefattori/enrome17
STATUS:CONFIRMED
SEQUENCE:0
SUMMARY:XIII Roman Meeting of Patrons 2017
DTSTART;VALUE=DATE:20181031
X-APPLE-TRAVEL-ADVISORY-BEHAVIOR:AUTOMATIC
CREATED:20170517T150008Z
X-APPLE-STRUCTURED-LOCATION;VALUE=URI;X-APPLE-MAPKIT-HANDLE=CAEShAII2TIQ
 gYCA2ICAgIAFGhIJFkDnJErzREAR5Be5AmXyKEAijAEKBkl0YWxpYRICSVQaBUxhemlvKgRS
 b21hMgRSb21hOgUwMDE4NkIFUG9udGVSGVBpYXp6YSBkaSBTYW50J0Fwb2xsaW5hcmVaAjQ5
 YhxQaWF6emEgZGkgU2FudCdBcG9sbGluYXJlIDQ5igEGQ2VudHJvigEOQ2VudHJvIFN0b3Jp
 Y2+KAQVQb250ZSocUGlhenphIGRpIFNhbnQnQXBvbGxpbmFyZSA0OTIcUGlhenphIGRpIFNh
 bnQnQXBvbGxpbmFyZSA0OTIKMDAxODYgUm9tYTIGSXRhbGlhODlAAA==;X-APPLE-RADIUS=
 49.91304555503812;X-TITLE="Piazza di Sant'Apollinare 49\nRoma, Italia":g
 eo:41.900700,12.473427
BEGIN:VALARM
X-WR-ALARMUID:BCD9F6D5-A68D-4F9F-A6C4-AD45A7014E3A
UID:BCD9F6D5-A68D-4F9F-A6C4-AD45A7014E3A
TRIGGER;VALUE=DATE-TIME:19760401T005545Z
ACTION:NONE
END:VALARM
BEGIN:VALARM
X-WR-ALARMUID:A4E96429-AE89-4284-B9C9-2733285CA6A6
UID:A4E96429-AE89-4284-B9C9-2733285CA6A6
TRIGGER;VALUE=DATE-TIME:20180715T070000Z
ATTACH;VALUE=URI:Basso
ACTION:AUDIO
END:VALARM
END:VEVENT
END:VCALENDAR
