BEGIN:VCALENDAR
VERSION:2.0
PRODID:-//Apple Inc.//Mac OS X 10.12.4//EN
CALSCALE:GREGORIAN
BEGIN:VEVENT
TRANSP:TRANSPARENT
DTEND;VALUE=DATE:20180420
UID:A8E737E8-DC1D-42F5-B105-367EA45D8B7E
DTSTAMP:20170512T100050Z
LOCATION:Piazza di Sant'Apollinare 49\nRoma\, Italia
URL;VALUE=URI:http://es.pusc.it/csi/ucc2018
SEQUENCE:0
X-APPLE-TRAVEL-ADVISORY-BEHAVIOR:AUTOMATIC
SUMMARY:11ª edición del Seminario Profesional para Oficinas de Comunicac
 ión de la Iglesia
DTSTART;VALUE=DATE:20180417
CREATED:20170512T095913Z
X-APPLE-STRUCTURED-LOCATION;VALUE=URI;X-APPLE-RADIUS=49.91304397583008;X
 -TITLE="Piazza di Sant'Apollinare 49\nRoma, Italia":geo:41.900700,12.473
 427
BEGIN:VALARM
X-WR-ALARMUID:DB77EFFE-D5F0-4C48-AE61-C9F54D8D8A37
UID:DB77EFFE-D5F0-4C48-AE61-C9F54D8D8A37
TRIGGER;VALUE=DATE-TIME:19760401T005545Z
X-APPLE-LOCAL-DEFAULT-ALARM:TRUE
ACTION:NONE
END:VALARM
END:VEVENT
END:VCALENDAR
