BEGIN:VCALENDAR
VERSION:2.0
PRODID:-//Apple Inc.//Mac OS X 10.12.4//EN
CALSCALE:GREGORIAN
BEGIN:VEVENT
TRANSP:TRANSPARENT
DTEND;VALUE=DATE:20180420
UID:E034D8B0-1492-46E4-A12C-0E718BDA06AD
DTSTAMP:20170512T093242Z
LOCATION:Piazza di Sant'Apollinare 49\nRoma\, Italia
URL;VALUE=URI:http://www.pusc.it/csi/ucc2018
SEQUENCE:0
X-APPLE-TRAVEL-ADVISORY-BEHAVIOR:AUTOMATIC
SUMMARY:XI Seminario Professionale sugli Uffici di Comunicazione della C
 hiesa
DTSTART;VALUE=DATE:20180417
CREATED:20170512T085007Z
X-APPLE-STRUCTURED-LOCATION;VALUE=URI;X-APPLE-MAPKIT-HANDLE=CAEShAII2TIQ
 gYCA2ICAgIAFGhIJFkDnJErzREAR5Be5AmXyKEAijAEKBkl0YWxpYRICSVQaBUxhemlvKgRS
 b21hMgRSb21hOgUwMDE4NkIFUG9udGVSGVBpYXp6YSBkaSBTYW50J0Fwb2xsaW5hcmVaAjQ5
 YhxQaWF6emEgZGkgU2FudCdBcG9sbGluYXJlIDQ5igEGQ2VudHJvigEOQ2VudHJvIFN0b3Jp
 Y2+KAQVQb250ZSocUGlhenphIGRpIFNhbnQnQXBvbGxpbmFyZSA0OTIcUGlhenphIGRpIFNh
 bnQnQXBvbGxpbmFyZSA0OTIKMDAxODYgUm9tYTIGSXRhbGlhODlAAA==;X-APPLE-RADIUS=
 49.91304555503812;X-TITLE="Piazza di Sant'Apollinare 49\nRoma, Italia":g
 eo:41.900700,12.473427
BEGIN:VALARM
X-WR-ALARMUID:B3C245B7-1BB0-4FE6-A0B7-96C9C5946BAE
UID:B3C245B7-1BB0-4FE6-A0B7-96C9C5946BAE
TRIGGER;VALUE=DATE-TIME:19760401T005545Z
X-APPLE-LOCAL-DEFAULT-ALARM:TRUE
ACTION:NONE
END:VALARM
END:VEVENT
END:VCALENDAR
