BEGIN:VCALENDAR
VERSION:2.0
PRODID:-//Apple Inc.//macOS 12.7.5//EN
CALSCALE:GREGORIAN
BEGIN:VTIMEZONE
TZID:Europe/Rome
BEGIN:DAYLIGHT
TZOFFSETFROM:+0100
RRULE:FREQ=YEARLY;BYMONTH=3;BYDAY=-1SU
DTSTART:19810329T020000
TZNAME:CEST
TZOFFSETTO:+0200
END:DAYLIGHT
BEGIN:STANDARD
TZOFFSETFROM:+0200
RRULE:FREQ=YEARLY;BYMONTH=10;BYDAY=-1SU
DTSTART:19961027T030000
TZNAME:CET
TZOFFSETTO:+0100
END:STANDARD
END:VTIMEZONE
BEGIN:VEVENT
CREATED:20240911T083110Z
UID:9C133DDC-A157-450C-A10A-418EF32C4E96
DTEND;TZID=Europe/Rome:20250308T170000
TRANSP:OPAQUE
X-APPLE-TRAVEL-ADVISORY-BEHAVIOR:AUTOMATIC
SUMMARY:26º Convegno di Filosofia
LAST-MODIFIED:20240911T083334Z
DTSTAMP:20240911T083334Z
DTSTART;TZID=Europe/Rome:20250306T090000
SEQUENCE:1
URL;VALUE=URI:https://www.pusc.it/fil/conv2025
END:VEVENT
END:VCALENDAR
